BEGIN:VCALENDAR
VERSION:2.0
PRODID:-//Poppy Perinatal Prenatal Postnatal Yoga - ECPv6.0.3.1//NONSGML v1.0//EN
CALSCALE:GREGORIAN
METHOD:PUBLISH
X-WR-CALNAME:Poppy Perinatal Prenatal Postnatal Yoga
X-ORIGINAL-URL:https://poppy.yoga
X-WR-CALDESC:Events for Poppy Perinatal Prenatal Postnatal Yoga
REFRESH-INTERVAL;VALUE=DURATION:PT1H
X-Robots-Tag:noindex
X-PUBLISHED-TTL:PT1H
BEGIN:VTIMEZONE
TZID:UTC
BEGIN:STANDARD
TZOFFSETFROM:+0000
TZOFFSETTO:+0000
TZNAME:UTC
DTSTART:20210101T000000
END:STANDARD
END:VTIMEZONE
BEGIN:VEVENT
DTSTART;TZID=UTC:20210817T080000
DTEND;TZID=UTC:20210822T170000
DTSTAMP:20260424T111439
CREATED:20210420T051033Z
LAST-MODIFIED:20210422T005535Z
UID:5043-1629187200-1629651600@poppy.yoga
SUMMARY:6-Day Prenatal & Postnatal Yoga Training
DESCRIPTION:ABOUT THE TRAINING: \nWho this training is for: \n\n\n\nGraduates of the Level 1 Poppy Training\n\n\n\nTraining Curriculum: \n\n\n\nDue to COVID-19\, this training will take place 100% online and is a live interaction experience via Zoom.\n50-Hour Training\nDaily Prenatal/Postnatal and Meditation Sessions.\nTailor poses for various needs and conditions during pregnancy.\nDesign class sequences for different types of prenatal and postnatal classes – relaxing to moderate to athletic.\nSpecific postpartum yoga practices that promote healing and support after childbirth\, including vaginal birth\, surgical birth\, VBAC\, and pregnancy loss.\nUse yoga practices to relieve pain\, discomfort\, anxiety\, depression that could accompany pregnancy and postpartum.\nUnderstand the anatomy and physiology of pregnancy\, childbirth\, and postpartum and apply that knowledge to help prenatal and postnatal students.\nHelp people connect emotionally\, physically\, and spiritually with themselves and use those connections to help prepare them for pregnancy\, childbirth\, and postpartum.\nTeaching Practicum (group and private class settings) and Feedback for Prenatal and Postnatal Class Designs\nHands-On Assists Clinics – learn and practice enhancement\, or supportive\, or comfort measure techniques. No one technique works for everyone; adapt techniques that work best for the individual.\nSequencing Practicum for class sequence designs that can help bring relief to prenatal and postnatal people with certain conditions (e.g.\, pubic bone pain\, back pain\, swelling\, nausea\, blood pressure issues\, fatigue\, etc.).\nReproductive Justice Workshop\nRadiant Health for Pregnancy and Postpartum Workshop\nEnergetics for Conception\, Pregnancy\, Labor & Delivery\, and Postpartum Workshop\nHerbs for Birthing People Workshop\n\n\n\nFaculty: \n\n  \nWHAT YOU GET: \n*50-Hour Training\n*Teacher Training Manual (e-book)\n*Daily Yoga Classes (prenatal/postnatal)\n*Discussion and Q&A Sessions\n*Daily Breathwork and Meditation Exercises\n*Hands-On Assists Workshops\n*Childbirth Class\n*6-Day Prenatal and Postnatal Yoga Training\n*3-Hour Reproductive Justice Workshop\n*6-Hour Pelvic Anatomy and Physiology Workshop\n*3-Hour Energetics for Conception\, Pregnancy\, Labor and Delivery and Postpartum Workshop\n*3-Hour Herbs for Birthing People Workshop\n*Certificate of Completion \nWHAT IS IN THE MANUAL: \n*240+ pages\n*Over 150 prenatal and postnatal full color asana pictures with detailed instructions\n*Articles about prenatal and postnatal practices through yoga\, breath\, meditation\n*Poses and techniques for relieving pain and cultivating strength and openness\n*Up-to-date info on anatomy and physiology of pregnancy\, birth\, and postpartum\n*Example 60-minute sequences for private and group prenatal or postnatal classes\n*Example 60-minute sequences for integrating prenatal and postnatal modifications into regular group classes\n*Example 60-minute sequences from relaxing to moderate to athletic prenatal or postnatal classes\n*Note to Part 1 Graduates: This manual is new and expanded from the Part 1 (3-Day Training) \nTRAINING SCHEDULE (Houston\, Texas time): \nDays 1\, 2 (Houston\, TX time)\nAugust 17\, 18: 8:00am-5:00pm – Prenatal/Postnatal Yoga Training + Anatomy and Physiology Workshop \nDay 3 (Houston\, TX time)\nAugust 19: 8:00am-5:00pm – Prenatal/Postnatal Yoga Training + Energetics Workshop \nDay 4 (Houston\, TX time)\nAugust 20: 8:00am-5:00pm – Prenatal/Postnatal Yoga Training + Reproductive Justice Workshop \nDay 5 (Houston\, TX time)\nAugust 21: 8:00am-5:00pm – Prenatal/Postnatal Yoga Training + Herbs for Birthing People Workshop \nDay 6 (Houston\, TX time)\nAugust 22: 8:00am-5:00pm – Prenatal/Postnatal Yoga Training \nFAQs \n\n  \nTUITION: \nEARLY BIRD: $599\nREGULAR: $799 \n PAYMENT POLICY: \nTuition includes a $150 non-refundable administrative fee. Early Bird deadline is July 14\, 2021. After July 14th\, regular payment is due. \nREFUND & CANCELLATION POLICY (STRICT): \n*30 days or more prior to retreat: 50% of monies less transaction fees and $150 non-refundable fee.\n*29 days prior: No refund. No exceptions. \nREGISTRATION: \nPAYMENT FOR 6-DAY TRAINING\nBy making payment\, you agree to honor the Strict Cancellation and Refund Policy. \n\nFill out the application before making payment.\nClick here to submit payment.
URL:https://poppy.yoga/event/6-day-prenatal-postnatal-yoga-training/
CATEGORIES:Prenatal Postnatal Teacher Training,Prenatal Postnatal Teacher Training 6-Day
ATTACH;FMTTYPE=image/jpeg:https://poppy.yoga/wp-content/uploads/2020/12/individual-event-banner-level-2-scaled.jpg
END:VEVENT
END:VCALENDAR